BEGIN:VCALENDAR
VERSION:2.0
PRODID:-//hacksw/handcal//NONSGML v1.0//EN
BEGIN:VEVENT
SUMMARY:Balade decouverte rive Gauche quartier du jardin des Plantes
UID:0735c434-f48b-4a76-b382-0dfeada4f914
DTSTART:20260422T220000Z
DTEND:20260423T220000Z
LOCATION:Localisation   
CATEGORIES:Sportif
STATUS:
DESCRIPTION:<p>Balade decouverte de Rouen rive gauche dans le
 quartier du jardin des Plantes commentee par Louis
 Jeanne.</p>
 
 <p>Rendez-vous a 13h45 sur l'esplanade rue des Roselies
 (anciennement caserne Richepanse) a Rouen</p>
URL;VALUE=URI:https://uvsotteville.sportsregions.fr/evenements/2026/04/23/balade-decouverte-rive-gauche-quartier-du-jardin-des-plantes-2440177
END:VEVENT
END:VCALENDAR
