BEGIN:VCALENDAR
VERSION:2.0
PRODID:-//hacksw/handcal//NONSGML v1.0//EN
BEGIN:VEVENT
SUMMARY:Rando a Amfreville la Mie Voie 7,45 km
UID:ab51e700-48df-47c0-9884-a120b7003990
DTSTART:20260503T220000Z
DTEND:20260504T220000Z
LOCATION:Localisation   
CATEGORIES:Sportif
STATUS:
DESCRIPTION:<p>Rendez-vous a 13h sur le parking de l'hotel de ville
 de Sotteville pour covoiturage. Depart a 13h45 du parking du
 cimetiere, rue du 8 mai  a Amfreville la Mie-Voie</p>
URL;VALUE=URI:https://uvsotteville.sportsregions.fr/evenements/2026/05/04/rando-a-amfreville-la-mie-voie-745-km-2440183
END:VEVENT
END:VCALENDAR
