BEGIN:VCALENDAR
VERSION:2.0
PRODID:-//hacksw/handcal//NONSGML v1.0//EN
BEGIN:VEVENT
SUMMARY:Sortie Cyclos du mercredi
UID:bb2bbe98-afc3-459b-a7f4-becf62a81169
DTSTART:20260603T120000Z
DTEND:20260603T153000Z
LOCATION:Localisation   
CATEGORIES:Sportif
STATUS:
DESCRIPTION:<p><strong><em>Rendez-vous et depart a 14h00 a l'entree
 du Stade municipal Jean Adret de Sotteville Les Rouen pour les
 sorties cyclo les mercredis et les samedis </em></strong></p>
URL;VALUE=URI:https://uvsotteville.sportsregions.fr/evenements/2026/06/03/sortie-cyclos-du-mercredi-2422331
END:VEVENT
END:VCALENDAR
